BEGIN:VCALENDAR
PRODID:NingEventWidget-v1
VERSION:2.0
METHOD:PUBLISH
BEGIN:VTIMEZONE
TZID:Europe/London
X-LIC-LOCATION:Europe/London
BEGIN:DAYLIGHT
TZOFFSETFROM:+0000
TZOFFSETTO:+0100
TZNAME:BST
DTSTART:19700329T010000
RRULE:FREQ=YEARLY;BYMONTH=3;BYDAY=-1SU
END:DAYLIGHT
BEGIN:STANDARD
TZOFFSETFROM:+0100
TZOFFSETTO:+0000
TZNAME:GMT
DTSTART:19701025T020000
RRULE:FREQ=YEARLY;BYMONTH=10;BYDAY=-1SU
END:STANDARD
END:VTIMEZONE
BEGIN:VEVENT
UID:844301:Event:1577894
DTSTAMP:20260424T112804Z
SUMMARY:Broadwater Farm Repair Café
DESCRIPTION:We're delighted to invite you to the upcoming Haringey Fix
 ers Repair Café event hosted at Broadwater Farm.What to Expect?🌱 B
 ring your items for repair – electronics, small furniture, toys and 
 more!🔧 Collaborate with our repairers to fix your stuff, learn repa
 ir skills on the go.👥 By booking a free ticket in advance, you'll h
 elp us ensure that someone with the right skills is there to assist yo
 u.How to Participate?🎉 Save the Date!🛠️ Gather your items for 
 repair. Maybe google/ youtube the fault?🎟️ Book a free ticket he
 re in advance to secure your slot.🌈 Experience the joy of fixing, 
 learning, and connecting!Why Join?🌍 Promote Sustainability: Be a pa
 rt of the movement towards a greener, more sustainable community.🙌 
 Learn and Share: Acquire new skills, share your knowledge, and make a 
 positive impact.Let's repair, reuse, and create a positive impact! See
  you there! 🛠️🌿Supported by: http://HaringeyFixers.org\n\nFor
  more information visit https://harringayonline.com/events/broadwater-
 farm-repair-caf-1
DTSTART;TZID=Europe/London:20240615T103000
DTEND;TZID=Europe/London:20240615T133000
CATEGORIES:sustainability, repair, reuse
LOCATION:Broadwater Farm Community Centre
WEBSITE:
URL:
CONTACT:
ORGANIZER;CN="Haringey Fixers":https://harringayonline.com/profile/Har
 ingeyFixers
ATTACH;FMTTYPE="image/jpeg":
ATTENDEE;ROLE=REQ-PARTICIPANT;PARTSTAT=ACCEPTED;RSVP=TRUE;CN="Haringey
  Fixers":https://harringayonline.com/profile/HaringeyFixers
END:VEVENT
END:VCALENDAR
