BEGIN:VCALENDAR
PRODID:NingEventWidget-v1
VERSION:2.0
METHOD:PUBLISH
BEGIN:VTIMEZONE
TZID:Europe/London
X-LIC-LOCATION:Europe/London
BEGIN:DAYLIGHT
TZOFFSETFROM:+0000
TZOFFSETTO:+0100
TZNAME:BST
DTSTART:19700329T010000
RRULE:FREQ=YEARLY;BYMONTH=3;BYDAY=-1SU
END:DAYLIGHT
BEGIN:STANDARD
TZOFFSETFROM:+0100
TZOFFSETTO:+0000
TZNAME:GMT
DTSTART:19701025T020000
RRULE:FREQ=YEARLY;BYMONTH=10;BYDAY=-1SU
END:STANDARD
END:VTIMEZONE
BEGIN:VEVENT
UID:844301:Event:1633483
DTSTAMP:20260425T042244Z
SUMMARY:Black River Band at the Nicholas Nickleby, N4 4ED
DESCRIPTION:Black River, a new Americana/country/blues/rock band are p
 laying the Nicholas Nickleby, 6, Ferme Park Road, N4 4ED on Friday 20t
 h March at 8pm. Free entry. Featuring the great guitar of Darren Filki
 ns and the voice of Laura Long, with drums and bass from two seasoned 
 veterans of the music scene, Black River will go down a treat at this 
 welcoming Czech beer spot.\n\nFor more information visit https://harri
 ngayonline.com/events/black-river-band-at-the-nicholas-nickleby-n4-4ed
DTSTART;TZID=Europe/London:20260320T200000
DTEND;TZID=Europe/London:20260320T230000
CATEGORIES:"'live", "music'", rock, country, blues, "'czech", "beer'"
LOCATION:Nicholas Nickleby,
WEBSITE:https://www.bohembrewery.com/
URL:https://www.bohembrewery.com/
CONTACT:
ORGANIZER;CN="Percy Aggett":https://harringayonline.com/profile/PercyA
 ggett
ATTACH;FMTTYPE="image/jpeg":https://storage.ning.com/topology/rest/1.0
 /file/get/31087824100?profile=original
ATTENDEE;ROLE=REQ-PARTICIPANT;PARTSTAT=ACCEPTED;RSVP=TRUE;CN="Percy Ag
 gett":https://harringayonline.com/profile/PercyAggett
END:VEVENT
END:VCALENDAR
