BEGIN:VCALENDAR
PRODID:NingEventWidget-v1
VERSION:2.0
METHOD:PUBLISH
BEGIN:VTIMEZONE
TZID:Europe/London
X-LIC-LOCATION:Europe/London
BEGIN:DAYLIGHT
TZOFFSETFROM:+0000
TZOFFSETTO:+0100
TZNAME:BST
DTSTART:19700329T010000
RRULE:FREQ=YEARLY;BYMONTH=3;BYDAY=-1SU
END:DAYLIGHT
BEGIN:STANDARD
TZOFFSETFROM:+0100
TZOFFSETTO:+0000
TZNAME:GMT
DTSTART:19701025T020000
RRULE:FREQ=YEARLY;BYMONTH=10;BYDAY=-1SU
END:STANDARD
END:VTIMEZONE
BEGIN:VEVENT
UID:844301:Event:1540632
DTSTAMP:20260424T214419Z
SUMMARY:BioBlitz
DESCRIPTION:Join an exciting survey to get a snapshot of the biodivers
 ity in Lordship Recreation ground. 5 experts will lead hourly sessions
  to explore the trees, birds, ants, plants and flowers and mini-beasts
 . The results will be fed into the national biological records. No exp
 erience needed, and its completely FREE. Just turn up or book via Even
 tbrite. Children can enjoy a Bug Craft workshop in the afternoon of Sa
 t 10th 1 - 2 and 2 - 3 in the Hub.  All children must be accompanied 
 by an adult.\n\nFor more information visit https://harringayonline.com
 /events/bioblitz-1
DTSTART;TZID=Europe/London:20230610T100000
DTEND;TZID=Europe/London:20230610T160000
CATEGORIES:bioblitz, family, friendly, nature, conservation, survey, w
 orkshop, biodiversity
LOCATION:The Hub off Higham road N176NU
WEBSITE:
URL:
CONTACT:07870238050
ORGANIZER:Mike Downs
ATTACH;FMTTYPE="image/jpeg":https://storage.ning.com/topology/rest/1.0
 /file/get/11199910901?profile=original
ATTENDEE;ROLE=REQ-PARTICIPANT;PARTSTAT=ACCEPTED;RSVP=TRUE;CN="Sally Ha
 ywill":https://harringayonline.com/profile/SallyHaywill
END:VEVENT
END:VCALENDAR
