BEGIN:VCALENDAR
PRODID:NingEventWidget-v1
VERSION:2.0
METHOD:PUBLISH
BEGIN:VTIMEZONE
TZID:Europe/London
X-LIC-LOCATION:Europe/London
BEGIN:DAYLIGHT
TZOFFSETFROM:+0000
TZOFFSETTO:+0100
TZNAME:BST
DTSTART:19700329T010000
RRULE:FREQ=YEARLY;BYMONTH=3;BYDAY=-1SU
END:DAYLIGHT
BEGIN:STANDARD
TZOFFSETFROM:+0100
TZOFFSETTO:+0000
TZNAME:GMT
DTSTART:19701025T020000
RRULE:FREQ=YEARLY;BYMONTH=10;BYDAY=-1SU
END:STANDARD
END:VTIMEZONE
BEGIN:VEVENT
UID:844301:Event:1546528
DTSTAMP:20260422T142440Z
SUMMARY:Bakelites at the Antwerp Arms
DESCRIPTION:Not far away from Harringay is the Antwerp Arms in Tottenh
 am - one of London's very few community owned pubs and the first in No
 rth London.  The Bakelites grew from the Crouch End and District u3a 
 and are now a six piece band playing a wide and eclectic selection of 
 jazz, blues, soul and rock, all of whose members live in Haringey and 
 two of whom live on the Ladder!  Put the two together and a splendid 
 evening's entertainment is guaranteed... in the ambience of a communit
 y owned pub in the leafy part of Tottenham - come on down!!!\r\n\n\nFo
 r more information visit https://harringayonline.com/events/bakelites-
 at-the-antwerp-arms
DTSTART;TZID=Europe/London:20230805T203000
DTEND;TZID=Europe/London:20230805T230000
CATEGORIES:jazz, blues, soul, rock, "antwerp arms"
LOCATION:Antwerp Arms
WEBSITE:https://www.antwerparms.co.uk/
URL:https://www.antwerparms.co.uk/
CONTACT:079 6710 7560
ORGANIZER;CN="Paul Soper":https://harringayonline.com/profile/PaulSope
 r
ATTACH;FMTTYPE="image/jpeg":https://storage.ning.com/topology/rest/1.0
 /file/get/12163691061?profile=original
ATTENDEE;ROLE=REQ-PARTICIPANT;PARTSTAT=ACCEPTED;RSVP=TRUE;CN="Paul Sop
 er":https://harringayonline.com/profile/PaulSoper
END:VEVENT
END:VCALENDAR
