BEGIN:VCALENDAR
PRODID:NingEventWidget-v1
VERSION:2.0
METHOD:PUBLISH
BEGIN:VTIMEZONE
TZID:Europe/London
X-LIC-LOCATION:Europe/London
BEGIN:DAYLIGHT
TZOFFSETFROM:+0000
TZOFFSETTO:+0100
TZNAME:BST
DTSTART:19700329T010000
RRULE:FREQ=YEARLY;BYMONTH=3;BYDAY=-1SU
END:DAYLIGHT
BEGIN:STANDARD
TZOFFSETFROM:+0100
TZOFFSETTO:+0000
TZNAME:GMT
DTSTART:19701025T020000
RRULE:FREQ=YEARLY;BYMONTH=10;BYDAY=-1SU
END:STANDARD
END:VTIMEZONE
BEGIN:VEVENT
UID:844301:Event:1569961
DTSTAMP:20260425T042315Z
SUMMARY:Back To The One At The Railway Tavern
DESCRIPTION:Back To The One return to the Railway with their joyous br
 and of funk, rock and beats. The Railway also serves great food from a
  specialist kitchen, and very good ales. A good time will be had by al
 l. www.backtotheoneband.com\n\nFor more information visit https://harr
 ingayonline.com/events/back-to-the-one-at-the-railway-tavern-3
DTSTART;TZID=Europe/London:20240424T211500
DTEND;TZID=Europe/London:20240424T223000
CATEGORIES:funk, rock, live, music
LOCATION:The Railway Tavern Crouch End Hill
WEBSITE:https://www.the-railwaytavern.co.uk/
URL:https://www.the-railwaytavern.co.uk/
CONTACT:
ORGANIZER;CN="Percy Aggett":https://harringayonline.com/profile/PercyA
 ggett
ATTACH;FMTTYPE="image/jpeg":https://storage.ning.com/topology/rest/1.0
 /file/get/12426302053?profile=original
ATTENDEE;ROLE=REQ-PARTICIPANT;PARTSTAT=ACCEPTED;RSVP=TRUE;CN="Percy Ag
 gett":https://harringayonline.com/profile/PercyAggett
END:VEVENT
END:VCALENDAR
