BEGIN:VCALENDAR
PRODID:NingEventWidget-v1
VERSION:2.0
METHOD:PUBLISH
BEGIN:VTIMEZONE
TZID:Europe/London
X-LIC-LOCATION:Europe/London
BEGIN:DAYLIGHT
TZOFFSETFROM:+0000
TZOFFSETTO:+0100
TZNAME:BST
DTSTART:19700329T010000
RRULE:FREQ=YEARLY;BYMONTH=3;BYDAY=-1SU
END:DAYLIGHT
BEGIN:STANDARD
TZOFFSETFROM:+0100
TZOFFSETTO:+0000
TZNAME:GMT
DTSTART:19701025T020000
RRULE:FREQ=YEARLY;BYMONTH=10;BYDAY=-1SU
END:STANDARD
END:VTIMEZONE
BEGIN:VEVENT
UID:844301:Event:1544082
DTSTAMP:20260422T144215Z
SUMMARY:Back to the One at Jimmy C's Blues Picnic
DESCRIPTION:Back to the One, an emerging local blues-funk-rock band ar
 e headlining this memorial event for the wonderful Jimmy C at St Mary'
 s Tower, Hornsey, N8 7NT at around 7:30 on Sunday 9th July. Delightful
  and relaxed setting. Part of the Crouch End Festival.\n\nFor more inf
 ormation visit https://harringayonline.com/events/back-to-the-one-at-j
 immy-c-s-blues-picnic
DTSTART;TZID=Europe/London:20230709T193000
DTEND;TZID=Europe/London:20230709T210000
CATEGORIES:"'jimmy", "c's", blues, "picnic'", "'crouch", end, "festiva
 l'"
LOCATION:St Mary's Tower, N8 7NT
WEBSITE:http://www.facebook.com/backtotheone
URL:http://www.facebook.com/backtotheone
CONTACT:
ORGANIZER;CN="Percy Aggett":https://harringayonline.com/profile/PercyA
 ggett
ATTACH;FMTTYPE="image/jpeg":https://storage.ning.com/topology/rest/1.0
 /file/get/12130874490?profile=original
ATTENDEE;ROLE=REQ-PARTICIPANT;PARTSTAT=ACCEPTED;RSVP=TRUE;CN="Percy Ag
 gett":https://harringayonline.com/profile/PercyAggett
END:VEVENT
END:VCALENDAR
