BEGIN:VCALENDAR
PRODID:NingEventWidget-v1
VERSION:2.0
METHOD:PUBLISH
BEGIN:VTIMEZONE
TZID:Europe/London
X-LIC-LOCATION:Europe/London
BEGIN:DAYLIGHT
TZOFFSETFROM:+0000
TZOFFSETTO:+0100
TZNAME:BST
DTSTART:19700329T010000
RRULE:FREQ=YEARLY;BYMONTH=3;BYDAY=-1SU
END:DAYLIGHT
BEGIN:STANDARD
TZOFFSETFROM:+0100
TZOFFSETTO:+0000
TZNAME:GMT
DTSTART:19701025T020000
RRULE:FREQ=YEARLY;BYMONTH=10;BYDAY=-1SU
END:STANDARD
END:VTIMEZONE
BEGIN:VEVENT
UID:844301:Event:1523751
DTSTAMP:20260425T030726Z
SUMMARY:Bach Mass in B minor - Crouch End Festival Chorus
DESCRIPTION:Following an extraordinary 22 concerts (including the Firs
 t Night of the Proms) and ten recording sessions last year, Crouch End
  Festival Chorus is gearing up for its first musical outing of 2023, w
 ith a concert at its ‘home’ venue, Alexandra Palace Theatre.\n \n
 The concert will feature J.S. Bach’s Mass in B minor alongside a sho
 rt piece by the acclaimed Icelandic composer, Anna Thorvaldsdottir - H
 eyr þú oss himnum á.\nBach’s Mass in B minor is an inspired rewor
 king of compositions from different periods of his life, drawn togethe
 r in his final years. The result is a choral masterpiece that uses the
  full range of musical styles Bach explored in the course of his caree
 r, and one that stretches the stamina and technique of singers and pla
 yers alike. As such, the Mass could be seen as the ultimate Bach showc
 ase: a unified expression of his genius as a composer.\nFor this perfo
 rmance, CEFC is delighted to collaborate with The Hanover Band, one of
  the UK’s finest period instrument orchestras, as well as four outst
 anding soloists, conducted by David Temple.\nWriting in The Guardian i
 n December 2022, Andrew Clements commented on the distinctiveness and 
 the “beautifully crafted detail” of Anna Thorvaldsdottir’s music
 .  She wrote Heyr þú oss himnum á -  Hear Us in Heaven - for the 
 Skálholt Summer Concert Series in 2005.  Using the verses of an old 
 Icelandic psalm by Olafur á Söndum (1560–1627), this haunting mult
 i-layered a capella piece will introduce the concert.\n\nFor more info
 rmation visit https://harringayonline.com/events/bach-mass-in-b-minor-
 crouch-end-festival-chorus
DTSTART;TZID=Europe/London:20230128T193000
DTEND;TZID=Europe/London:20230128T214500
CATEGORIES:music, concert, choral, crouch, end, festival, chorus, alex
 andra, palace
LOCATION:Alexandra Palace Theatre
WEBSITE:https://www.alexandrapalace.com/whats-on/crouch-end-festival-c
 horus-adams-to-elgar
URL:https://www.alexandrapalace.com/whats-on/crouch-end-festival-choru
 s-adams-to-elgar
CONTACT:020 8365 4343
ORGANIZER:Crouch End Festival Chorus
ATTACH;FMTTYPE="image/jpeg":https://storage.ning.com/topology/rest/1.0
 /file/get/10928633283?profile=original
ATTENDEE;ROLE=REQ-PARTICIPANT;PARTSTAT=ACCEPTED;RSVP=TRUE;CN="Liz Sich
 ":https://harringayonline.com/profile/LizSich
END:VEVENT
END:VCALENDAR
