BEGIN:VCALENDAR
PRODID:NingEventWidget-v1
VERSION:2.0
METHOD:PUBLISH
BEGIN:VTIMEZONE
TZID:Europe/London
X-LIC-LOCATION:Europe/London
BEGIN:DAYLIGHT
TZOFFSETFROM:+0000
TZOFFSETTO:+0100
TZNAME:BST
DTSTART:19700329T010000
RRULE:FREQ=YEARLY;BYMONTH=3;BYDAY=-1SU
END:DAYLIGHT
BEGIN:STANDARD
TZOFFSETFROM:+0100
TZOFFSETTO:+0000
TZNAME:GMT
DTSTART:19701025T020000
RRULE:FREQ=YEARLY;BYMONTH=10;BYDAY=-1SU
END:STANDARD
END:VTIMEZONE
BEGIN:VEVENT
UID:844301:Event:1506554
DTSTAMP:20260423T171523Z
SUMMARY:Apple Day
DESCRIPTION:Join us in a Celebration of all things Apple! Fun for all 
 the family...longest peel contest, help turn the handle to make apple 
 juice, make a butterfly mask, display and tasting of lots of different
  - and unusual - apples, taste some of the delicious apple cakes, juic
 es and ciders we will have on sale, and for the first three families t
 o pledge to plant and help maintain it - plant and name a baby apple t
 ree in Lordship Recreation Ground.\n\nFor more information visit https
 ://harringayonline.com/events/apple-day
DTSTART;TZID=Europe/London:20221030T130000
DTEND;TZID=Europe/London:20221030T170000
CATEGORIES:apples, "trees'", family, "fun'", "'apple", "day'", "'child
 rens", "activities'", display
LOCATION:The Hub off Higham road N176NU
WEBSITE:https://www.google.com/maps/@51.5886203,-0.0824091,14z
URL:https://www.google.com/maps/@51.5886203,-0.0824091,14z
CONTACT:0775733202
ORGANIZER;CN="Sally Haywill":https://harringayonline.com/profile/Sally
 Haywill
ATTACH;FMTTYPE="image/jpeg":https://storage.ning.com/topology/rest/1.0
 /file/get/10806605496?profile=original
ATTENDEE;ROLE=REQ-PARTICIPANT;PARTSTAT=ACCEPTED;RSVP=TRUE;CN="Sally Ha
 ywill":https://harringayonline.com/profile/SallyHaywill
END:VEVENT
END:VCALENDAR
