BEGIN:VCALENDAR
PRODID:NingEventWidget-v1
VERSION:2.0
METHOD:PUBLISH
BEGIN:VTIMEZONE
TZID:Europe/London
X-LIC-LOCATION:Europe/London
BEGIN:DAYLIGHT
TZOFFSETFROM:+0000
TZOFFSETTO:+0100
TZNAME:BST
DTSTART:19700329T010000
RRULE:FREQ=YEARLY;BYMONTH=3;BYDAY=-1SU
END:DAYLIGHT
BEGIN:STANDARD
TZOFFSETFROM:+0100
TZOFFSETTO:+0000
TZNAME:GMT
DTSTART:19701025T020000
RRULE:FREQ=YEARLY;BYMONTH=10;BYDAY=-1SU
END:STANDARD
END:VTIMEZONE
BEGIN:VEVENT
UID:844301:Event:1636988
DTSTAMP:20260421T175245Z
SUMMARY:Analogue Collage Workshop with Vicky Robinson
DESCRIPTION:\nJoin artist Vicky Robinson for an immersive and intuitiv
 e collage workshop, gently exploring the connection between sound and 
 image. Guided by a curated selection of music, you’ll be encouraged 
 to listen deeply - noticing rhythm, mood, memory and emotion - and all
 ow your intuition to lead your creative process.\nStarting with a quic
 k warm-up exercise to loosen up and tap into your creativity, you will
  then be invited to respond to the music in your own way by cutting, l
 ayering and composing your own collage. There is no pressure for perfe
 ction; this is about tuning in, trusting your instincts and creating f
 rom a place of presence and play.No previous experience is required.\n
 All materials are provided and no experience is required.\n\nFor more 
 information visit https://harringayonline.com/events/analogue-collage-
 workshop-with-vicky-robinson
DTSTART;TZID=Europe/London:20260419T140000
DTEND;TZID=Europe/London:20260419T180000
CATEGORIES:collage, workshop, art, practice, creative, greenlensstudio
 s
LOCATION:Green Lens Studios
WEBSITE:https://www.greenlenstudios.com/store/p/studio-lighting-worksh
 op-7th-march-2026
URL:https://www.greenlenstudios.com/store/p/studio-lighting-workshop-7
 th-march-2026
CONTACT:
ORGANIZER;CN="Green Lens Studios":https://harringayonline.com/profile/
 GreenLensStusdios
ATTACH;FMTTYPE="image/jpeg":https://storage.ning.com/topology/rest/1.0
 /file/get/31125905077?profile=original
ATTENDEE;ROLE=REQ-PARTICIPANT;PARTSTAT=ACCEPTED;RSVP=TRUE;CN="Green Le
 ns Studios":https://harringayonline.com/profile/GreenLensStusdios
END:VEVENT
END:VCALENDAR
