BEGIN:VCALENDAR
PRODID:NingEventWidget-v1
VERSION:2.0
METHOD:PUBLISH
BEGIN:VTIMEZONE
TZID:Europe/London
X-LIC-LOCATION:Europe/London
BEGIN:DAYLIGHT
TZOFFSETFROM:+0000
TZOFFSETTO:+0100
TZNAME:BST
DTSTART:19700329T010000
RRULE:FREQ=YEARLY;BYMONTH=3;BYDAY=-1SU
END:DAYLIGHT
BEGIN:STANDARD
TZOFFSETFROM:+0100
TZOFFSETTO:+0000
TZNAME:GMT
DTSTART:19701025T020000
RRULE:FREQ=YEARLY;BYMONTH=10;BYDAY=-1SU
END:STANDARD
END:VTIMEZONE
BEGIN:VEVENT
UID:844301:Event:1633170
DTSTAMP:20260423T111409Z
SUMMARY:An Introduction to Rituals and Robots
DESCRIPTION:Rituals and Robots is an arts, technology and research pro
 ject exploring what we need to thrive in the future.https://www.i-am-a
 i.net/ritualsandrobots/\nLocal artist, researcher and creative educato
 r Rachel Jacobs invites you to join her around the table to respond to
  the question 'do we need rituals or robots?' Thinking about how we c
 an design sustainable rituals and robots for the future. We will be m
 aking small robots using arts, crafts and technology that respond to o
 ur concerns about climate and environmental change and the impacts of 
 digital technology on our everyday lives. \n\nFor more information vi
 sit https://harringayonline.com/events/an-introduction-to-rituals-and-
 robots
DTSTART;TZID=Europe/London:20260212T180000
DTEND;TZID=Europe/London:20260212T190000
CATEGORIES:technology, future, robots, ai, art, rituals
LOCATION:Space 4
WEBSITE:https://www.eventbrite.co.uk/e/an-introduction-to-rituals-and-
 robots-tickets-1981584449431?aff=oddtdtcreator
URL:https://www.eventbrite.co.uk/e/an-introduction-to-rituals-and-robo
 ts-tickets-1981584449431?aff=oddtdtcreator
CONTACT:
ORGANIZER;CN="Rachel Jacobs":https://harringayonline.com/profile/Rache
 lJacobs
ATTACH;FMTTYPE="image/jpeg":https://storage.ning.com/topology/rest/1.0
 /file/get/31084416257?profile=original
ATTENDEE;ROLE=REQ-PARTICIPANT;PARTSTAT=ACCEPTED;RSVP=TRUE;CN="Rachel J
 acobs":https://harringayonline.com/profile/RachelJacobs
END:VEVENT
END:VCALENDAR
