BEGIN:VCALENDAR
PRODID:NingEventWidget-v1
VERSION:2.0
METHOD:PUBLISH
BEGIN:VTIMEZONE
TZID:Europe/London
X-LIC-LOCATION:Europe/London
BEGIN:DAYLIGHT
TZOFFSETFROM:+0000
TZOFFSETTO:+0100
TZNAME:BST
DTSTART:19700329T010000
RRULE:FREQ=YEARLY;BYMONTH=3;BYDAY=-1SU
END:DAYLIGHT
BEGIN:STANDARD
TZOFFSETFROM:+0100
TZOFFSETTO:+0000
TZNAME:GMT
DTSTART:19701025T020000
RRULE:FREQ=YEARLY;BYMONTH=10;BYDAY=-1SU
END:STANDARD
END:VTIMEZONE
BEGIN:VEVENT
UID:844301:Event:1628195
DTSTAMP:20260425T012542Z
SUMMARY:An Evening of Cabaret and Burlesque by Hundred Watt Club
DESCRIPTION:Roll Up! Roll Up! The risqué, raunchy & ridiculous people
  of Hundred Watt Club return to Jacksons Lane with another glittering 
 and glorious evening of burlesque, vaudeville & comedy!\n\nIn classic 
 Hundred Watt Club style, expect the unexpected! With a seductive & siz
 zling cast hand selected by Lena Lenman, this show is a no-holds barre
 d, full throttle journey into the wonderful world of tease & tassels, 
 showgirls and circus!\n\nHundred Watt Club is proud to be one of the l
 ongest running burlesque revues in the UK, so gear up for a good old f
 ashioned, very grown up evening of variety entertainment… Forget you
 r troubles and come to the cabaret!\n\nFor more information visit http
 s://harringayonline.com/events/an-evening-of-cabaret-and-burlesque-by-
 hundred-watt-club
DTSTART;TZID=Europe/London:20260228T193000
DTEND;TZID=Europe/London:20260228T203000
CATEGORIES:theatre, circus
LOCATION:Jacksons Lane
WEBSITE:https://www.jacksonslane.org.uk/events/an-evening-of-cabaret-a
 nd-burlesque-2026/
URL:https://www.jacksonslane.org.uk/events/an-evening-of-cabaret-and-b
 urlesque-2026/
CONTACT:020 8340 5226
ORGANIZER;CN="Jacksons Lane":https://harringayonline.com/profile/Jacks
 onsLane899
ATTACH;FMTTYPE="image/jpeg":https://storage.ning.com/topology/rest/1.0
 /file/get/31044938499?profile=original
ATTENDEE;ROLE=REQ-PARTICIPANT;PARTSTAT=ACCEPTED;RSVP=TRUE;CN="Jacksons
  Lane":https://harringayonline.com/profile/JacksonsLane899
END:VEVENT
END:VCALENDAR
