BEGIN:VCALENDAR
PRODID:NingEventWidget-v1
VERSION:2.0
METHOD:PUBLISH
BEGIN:VTIMEZONE
TZID:Europe/London
X-LIC-LOCATION:Europe/London
BEGIN:DAYLIGHT
TZOFFSETFROM:+0000
TZOFFSETTO:+0100
TZNAME:BST
DTSTART:19700329T010000
RRULE:FREQ=YEARLY;BYMONTH=3;BYDAY=-1SU
END:DAYLIGHT
BEGIN:STANDARD
TZOFFSETFROM:+0100
TZOFFSETTO:+0000
TZNAME:GMT
DTSTART:19701025T020000
RRULE:FREQ=YEARLY;BYMONTH=10;BYDAY=-1SU
END:STANDARD
END:VTIMEZONE
BEGIN:VEVENT
UID:844301:Event:1535287
DTSTAMP:20260422T183130Z
SUMMARY:ALEXANDER TECHNIQUE INTRO COURSE
DESCRIPTION:Alexander Technique Intro Course\r\nfor Beginners and Retu
 rners\r\nCome and learn how you can begin to move more freely and easi
 ly, whatever your activities. Through observation, gentle movement exp
 loration and discussion, you will begin to develop some self-help skil
 ls you can use throughout your life.\r\nEssential to enrol in advance.
  Info & Booking:\r\nhttps://www.hilaryking.net/alexander-technique/eve
 nts\r\nIndividual AT lessons are available in Harringay N4 1RZ\n\nFor 
 more information visit https://harringayonline.com/events/alexander-te
 chnique-intro-course
DTSTART;TZID=Europe/London:20230714T101500
DTEND;TZID=Europe/London:20230714T114500
CATEGORIES:alexandertechnique, "intro workshop", self-help, local
LOCATION:Clissold Park Tennis Pavilion
WEBSITE:https://www.hilaryking.net/
URL:https://www.hilaryking.net/
CONTACT:07463 724447
ORGANIZER;CN="Hilary King Alexander Technique":https://harringayonline
 .com/profile/HilaryKing
ATTACH;FMTTYPE="image/jpeg":https://storage.ning.com/topology/rest/1.0
 /file/get/11027415281?profile=original
ATTENDEE;ROLE=REQ-PARTICIPANT;PARTSTAT=ACCEPTED;RSVP=TRUE;CN="Hilary K
 ing Alexander Technique":https://harringayonline.com/profile/HilaryKin
 g
END:VEVENT
END:VCALENDAR
