BEGIN:VCALENDAR
PRODID:NingEventWidget-v1
VERSION:2.0
METHOD:PUBLISH
BEGIN:VTIMEZONE
TZID:Europe/London
X-LIC-LOCATION:Europe/London
BEGIN:DAYLIGHT
TZOFFSETFROM:+0000
TZOFFSETTO:+0100
TZNAME:BST
DTSTART:19700329T010000
RRULE:FREQ=YEARLY;BYMONTH=3;BYDAY=-1SU
END:DAYLIGHT
BEGIN:STANDARD
TZOFFSETFROM:+0100
TZOFFSETTO:+0000
TZNAME:GMT
DTSTART:19701025T020000
RRULE:FREQ=YEARLY;BYMONTH=10;BYDAY=-1SU
END:STANDARD
END:VTIMEZONE
BEGIN:VEVENT
UID:844301:Event:1514267
DTSTAMP:20260420T171744Z
SUMMARY:Alan in Wonderland and the Three Goats Plus...
DESCRIPTION:We are excited to haveÂ Booster Cushion TheatreÂ bringingÂ
  Alan in Wonderland and the Three Goats Plus...Â to Collage Kids.\nAli
 ce is stuck in Wonderland at the Mad Hatterâ€™s tea party and itâ€™s u
 p to her brother, Alan, to rescue her. Forgetting that all things in W
 onderland are magical, Alice eats a plate of cakes which turn her into
  a troll and now she eats everything and anything she can get her hand
 s on!\nAlan knows he must find the Three Goats, Wonderlandâ€™s troll e
 xperts and ask them for help. They will help Alan to save his sister, 
 if he can help them get back over the bridge!\nChildren will revel in 
 this magical and immersive show complete with larger than life props. 
 Take part in the Mad Hatterâ€™s tea party, become trolls under a bridg
 e and help Alan save Alice!\n======\nCollage Kids is a bi-monthly fun 
 packed performance event for early years children (suggested age range
  up to 6 years) and their families. It is a relaxed performance in the
  Karamel restaurant space. The performance is FREE we just ask for wha
 tever you can donate into our tip jar.\nMAAD, 4 Coburg Road N22 6UJ (a
 ka Karamel).\nFamily friendly, all welcome.\n\nFor more information vi
 sit https://harringayonline.com/events/alan-in-wonderland-and-the-thre
 e-goats-plus
DTSTART;TZID=Europe/London:20221112T113000
DTEND;TZID=Europe/London:20221112T123000
CATEGORIES:family, stories, kids
LOCATION:MAAD, 4 Coburg Road, London N22 6UJ
WEBSITE:https://www.musicglue.com/karamel
URL:https://www.musicglue.com/karamel
CONTACT:
ORGANIZER;CN="Collage Arts":https://harringayonline.com/profile/Chocol
 ateFactory
ATTACH;FMTTYPE="image/jpeg":
ATTENDEE;ROLE=REQ-PARTICIPANT;PARTSTAT=ACCEPTED;RSVP=TRUE;CN="Collage 
 Arts":https://harringayonline.com/profile/ChocolateFactory
END:VEVENT
END:VCALENDAR
