BEGIN:VCALENDAR
PRODID:NingEventWidget-v1
VERSION:2.0
METHOD:PUBLISH
BEGIN:VTIMEZONE
TZID:Europe/London
X-LIC-LOCATION:Europe/London
BEGIN:DAYLIGHT
TZOFFSETFROM:+0000
TZOFFSETTO:+0100
TZNAME:BST
DTSTART:19700329T010000
RRULE:FREQ=YEARLY;BYMONTH=3;BYDAY=-1SU
END:DAYLIGHT
BEGIN:STANDARD
TZOFFSETFROM:+0100
TZOFFSETTO:+0000
TZNAME:GMT
DTSTART:19701025T020000
RRULE:FREQ=YEARLY;BYMONTH=10;BYDAY=-1SU
END:STANDARD
END:VTIMEZONE
BEGIN:VEVENT
UID:844301:Event:1630623
DTSTAMP:20260424T010402Z
SUMMARY:Afrospot
DESCRIPTION:Afrospot is a vibrant live music and cultural experience t
 hat celebrates the pulse of Africa and Afro-diasporic sound, art, and
  community. Hosted by  Kodjovi Kush alongside the Afrospot All Stars,
  the event brings together  dynamic live performances, DJ sets, and c
 ultural  expression in an atmosphere  rooted in authenticity and con
 nection.  More than just a show, Afrospot is a gathering place,  whe
 re rhythm meets  heritage, and music becomes a bridge between  gener
 ations and cultures.  From Agbadjazz experimental fusions, Afrobeat a
 nd highlife to Reggae, with  Jazz influences, Afrospot champions emer
 ging talent, honours cultural  heritage, creating unforgettable night
 s driven by energy, creativity,  improvisation and audience connectio
 n. Afrospot stands for culture in motion: a  celebration of music, ar
 t, and identity.\n\nFor more information visit https://harringayonline
 .com/events/afrospot
DTSTART;TZID=Europe/London:20260205T190000
DTEND;TZID=Europe/London:20260205T230000
CATEGORIES:music, "live music", cocktails, reggae
LOCATION:Jam in a Jar
WEBSITE:https://jaminajarbar.co.uk
URL:https://jaminajarbar.co.uk
CONTACT:
ORGANIZER;CN="Jam in a Jar":https://harringayonline.com/profile/Jamina
 Jar
ATTACH;FMTTYPE="image/jpeg":https://storage.ning.com/topology/rest/1.0
 /file/get/31063219079?profile=original
ATTENDEE;ROLE=REQ-PARTICIPANT;PARTSTAT=ACCEPTED;RSVP=TRUE;CN="Jam in a
  Jar":https://harringayonline.com/profile/JaminaJar
END:VEVENT
END:VCALENDAR
