BEGIN:VCALENDAR
PRODID:NingEventWidget-v1
VERSION:2.0
METHOD:PUBLISH
BEGIN:VTIMEZONE
TZID:Europe/London
X-LIC-LOCATION:Europe/London
BEGIN:DAYLIGHT
TZOFFSETFROM:+0000
TZOFFSETTO:+0100
TZNAME:BST
DTSTART:19700329T010000
RRULE:FREQ=YEARLY;BYMONTH=3;BYDAY=-1SU
END:DAYLIGHT
BEGIN:STANDARD
TZOFFSETFROM:+0100
TZOFFSETTO:+0000
TZNAME:GMT
DTSTART:19701025T020000
RRULE:FREQ=YEARLY;BYMONTH=10;BYDAY=-1SU
END:STANDARD
END:VTIMEZONE
BEGIN:VEVENT
UID:844301:Event:1635336
DTSTAMP:20260424T143820Z
SUMMARY:A Photography Walk with Mike Segal at Coldfall Wood
DESCRIPTION:A walk in the woods with photographer Mike Segal, to see w
 hat opportunities there are to capture images of the spring at this wo
 nderful time of year. All types of camera, from camera phones to SLRs 
 welcome.Children welcome with a responsible adult.\r\nBook a free plac
 e here  Meet at the entrance on Creighton Road opposite the entrance t
 o Fortismere School (nearest to Muswell Hill)  Please note that your t
 elephone number will be only used if the event is cancelled or changed
 \r\nEvent Details From 2:00PM to 3:30PM\r\n\r\nLocation Coldfall Wood
  (Creighton Avenue East entrance), Muswell Hill, N10 1NT\r\n\n\nFor mo
 re information visit https://harringayonline.com/events/a-photography-
 walk-with-mike-segal-at-coldfall-wood
DTSTART;TZID=Europe/London:20260405T140000
DTEND;TZID=Europe/London:20260405T153000
CATEGORIES:photography
LOCATION:Coldfall Wood (Creighton Avenue East entrance)
WEBSITE:https://www.ticketsource.co.uk/coldfallwood/t-yzzgojx?fbclid=I
 wY2xjawQeZ6lleHRuA2FlbQIxMQBzcnRjBmFwcF9pZBAyMjIwMzkxNzg4MjAwODkyAAEer
 ZCHYP7vspZG6w1erJEPXRUN2iVEolwhbXT7zdry3FJ-iEJmVjOMTaU9hiI_aem_f6uWUk5
 NOrjgOFT_6X3eeg
URL:https://www.ticketsource.co.uk/coldfallwood/t-yzzgojx?fbclid=IwY2x
 jawQeZ6lleHRuA2FlbQIxMQBzcnRjBmFwcF9pZBAyMjIwMzkxNzg4MjAwODkyAAEerZCHY
 P7vspZG6w1erJEPXRUN2iVEolwhbXT7zdry3FJ-iEJmVjOMTaU9hiI_aem_f6uWUk5NOrj
 gOFT_6X3eeg
CONTACT:
ORGANIZER;CN=Liz:https://harringayonline.com/profile/Liz
ATTACH;FMTTYPE="image/jpeg":https://storage.ning.com/topology/rest/1.0
 /file/get/31101644495?profile=original
ATTENDEE;ROLE=REQ-PARTICIPANT;PARTSTAT=ACCEPTED;RSVP=TRUE;CN=Liz:https
 ://harringayonline.com/profile/Liz
END:VEVENT
END:VCALENDAR
